BEGIN:VCALENDAR
VERSION:2.0
PRODID:-//jEvents 1.5 for Joomla//EN
BEGIN:VEVENT
UID:1f72ea0c79560c7a2fe57a334ba0086d
CATEGORIES:MuellKalender
SUMMARY:gruen, gelb, blau
LOCATION:
DESCRIPTION;ENCODING=QUOTED-PRINTABLE:

DTSTAMP:20260426T032758
DTSTART:20190601T000000
DTEND:20190601T235959
SEQUENCE:0
TRANSP:OPAQUE
END:VEVENT
END:VCALENDAR