BEGIN:VCALENDAR
VERSION:2.0
PRODID:-//jEvents 1.5 for Joomla//EN
BEGIN:VEVENT
UID:f180e659f0f6e840ef88cebd1e053606
CATEGORIES:MuellKalender
SUMMARY:schwarz, gruen
LOCATION:
DESCRIPTION;ENCODING=QUOTED-PRINTABLE:

DTSTAMP:20260426T000039
DTSTART:20190802T000000
DTEND:20190802T235959
SEQUENCE:0
TRANSP:OPAQUE
END:VEVENT
END:VCALENDAR