BEGIN:VCALENDAR
VERSION:2.0
PRODID:-//jEvents 1.5 for Joomla//EN
BEGIN:VEVENT
UID:97b3c6f2e55ff3337b7004f55766ab0d
CATEGORIES:MuellKalender
SUMMARY:gruen
LOCATION:
DESCRIPTION;ENCODING=QUOTED-PRINTABLE:

DTSTAMP:20260426T000104
DTSTART:20190809T000000
DTEND:20190809T235959
SEQUENCE:0
TRANSP:OPAQUE
END:VEVENT
END:VCALENDAR