BEGIN:VCALENDAR
VERSION:2.0
PRODID:-//jEvents 1.5 for Joomla//EN
BEGIN:VEVENT
UID:2eeeb3f8b9ca8efb51dba8dea682ed20
CATEGORIES:MuellKalender
SUMMARY:gruen, gelb, blau
LOCATION:
DESCRIPTION;ENCODING=QUOTED-PRINTABLE:

DTSTAMP:20260425T224842
DTSTART:20190920T000000
DTEND:20190920T235959
SEQUENCE:0
TRANSP:OPAQUE
END:VEVENT
END:VCALENDAR