BEGIN:VCALENDAR
VERSION:2.0
PRODID:-//jEvents 1.5 for Joomla//EN
BEGIN:VEVENT
UID:cbc98e6c6a322b30f94dc58c83472c36
CATEGORIES:MuellKalender
SUMMARY:schwarz, gruen
LOCATION:
DESCRIPTION;ENCODING=QUOTED-PRINTABLE:

DTSTAMP:20260425T222941
DTSTART:20190927T000000
DTEND:20190927T235959
SEQUENCE:0
TRANSP:OPAQUE
END:VEVENT
END:VCALENDAR