BEGIN:VCALENDAR
VERSION:2.0
PRODID:-//jEvents 1.5 for Joomla//EN
BEGIN:VEVENT
UID:8d0c835d78d434e38a74e4c98e81180c
CATEGORIES:MuellKalender
SUMMARY:schwarz, gruen
LOCATION:
DESCRIPTION;ENCODING=QUOTED-PRINTABLE:

DTSTAMP:20260425T204628
DTSTART:20191011T000000
DTEND:20191011T235959
SEQUENCE:0
TRANSP:OPAQUE
END:VEVENT
END:VCALENDAR