BEGIN:VCALENDAR
VERSION:2.0
PRODID:-//jEvents 1.5 for Joomla//EN
BEGIN:VEVENT
UID:214817eb687afc0cf76699ee090e970e
CATEGORIES:MuellKalender
SUMMARY:gruen, gelb, blau
LOCATION:
DESCRIPTION;ENCODING=QUOTED-PRINTABLE:

DTSTAMP:20260425T204628
DTSTART:20191018T000000
DTEND:20191018T235959
SEQUENCE:0
TRANSP:OPAQUE
END:VEVENT
END:VCALENDAR