BEGIN:VCALENDAR
VERSION:2.0
PRODID:-//jEvents 1.5 for Joomla//EN
BEGIN:VEVENT
UID:06555b0bd1c8f901bfbe8a102e33ef30
CATEGORIES:MuellKalender
SUMMARY:gruen
LOCATION:
DESCRIPTION;ENCODING=QUOTED-PRINTABLE:

DTSTAMP:20260425T185553
DTSTART:20191102T000000
DTEND:20191102T235959
SEQUENCE:0
TRANSP:OPAQUE
END:VEVENT
END:VCALENDAR