BEGIN:VCALENDAR
VERSION:2.0
PRODID:-//jEvents 1.5 for Joomla//EN
BEGIN:VEVENT
UID:d160c401710cf4c54881304983bd1c8f
CATEGORIES:MuellKalender
SUMMARY:schwarz, gruen
LOCATION:
DESCRIPTION;ENCODING=QUOTED-PRINTABLE:

DTSTAMP:20260425T191559
DTSTART:20191108T000000
DTEND:20191108T235959
SEQUENCE:0
TRANSP:OPAQUE
END:VEVENT
END:VCALENDAR