BEGIN:VCALENDAR
VERSION:2.0
PRODID:-//jEvents 1.5 for Joomla//EN
BEGIN:VEVENT
UID:a525b98a07033bacb7472a347f4ddc51
CATEGORIES:MuellKalender
SUMMARY:schwarz
LOCATION:
DESCRIPTION;ENCODING=QUOTED-PRINTABLE:

DTSTAMP:20260425T191517
DTSTART:20191122T000000
DTEND:20191122T235959
SEQUENCE:0
TRANSP:OPAQUE
END:VEVENT
END:VCALENDAR