BEGIN:VCALENDAR
VERSION:2.0
PRODID:-//jEvents 1.5 for Joomla//EN
BEGIN:VEVENT
UID:ea45fc33e4c05b8109e5e58a2248646c
CATEGORIES:MuellKalender
SUMMARY:schwarz
LOCATION:
DESCRIPTION;ENCODING=QUOTED-PRINTABLE:

DTSTAMP:20260425T172429
DTSTART:20191206T000000
DTEND:20191206T235959
SEQUENCE:0
TRANSP:OPAQUE
END:VEVENT
END:VCALENDAR