BEGIN:VCALENDAR
VERSION:2.0
PRODID:-//jEvents 1.5 for Joomla//EN
BEGIN:VEVENT
UID:66b923abc2fa14cab0d984daaa6a6a76
CATEGORIES:MuellKalender
SUMMARY:gruen, gelb, blau
LOCATION:
DESCRIPTION;ENCODING=QUOTED-PRINTABLE:

DTSTAMP:20260425T172624
DTSTART:20191213T000000
DTEND:20191213T235959
SEQUENCE:0
TRANSP:OPAQUE
END:VEVENT
END:VCALENDAR