BEGIN:VCALENDAR
VERSION:2.0
PRODID:-//jEvents 1.5 for Joomla//EN
BEGIN:VEVENT
UID:6e50c9780c48a2d22a6472046b95884e
CATEGORIES:MuellKalender
SUMMARY:gruen
LOCATION:
DESCRIPTION;ENCODING=QUOTED-PRINTABLE:

DTSTAMP:20260425T174643
DTSTART:20191228T000000
DTEND:20191228T235959
SEQUENCE:0
TRANSP:OPAQUE
END:VEVENT
END:VCALENDAR