BEGIN:VCALENDAR
VERSION:2.0
PRODID:-//jEvents 1.5 for Joomla//EN
BEGIN:VEVENT
UID:13b58abc798010321efa8a2187553828
CATEGORIES:Adenstedt aktuell
SUMMARY:Schweinepreis-schießen 2019
LOCATION:Schützenhaus Adenstedt
DESCRIPTION;ENCODING=QUOTED-PRINTABLE:
CONTACT:http://gelbesblatt.info/gruppen/schuetzenverein/2038-schweine-preisschiessen-2019

DTSTAMP:20260426T024043
DTSTART:20190214T000000
DTEND:20190224T235959
SEQUENCE:0
TRANSP:OPAQUE
END:VEVENT
END:VCALENDAR