BEGIN:VCALENDAR
VERSION:2.0
PRODID:-//jEvents 1.5 for Joomla//EN
BEGIN:VEVENT
UID:5e6b9cbb914e497e25a402722dec8c13
CATEGORIES:Adenstedt aktuell
SUMMARY:Preisverleihung Schweinepreis
LOCATION:
DESCRIPTION;ENCODING=QUOTED-PRINTABLE:

DTSTAMP:20260426T005918
DTSTART:20190308T190000
DTEND:20190308T150000
SEQUENCE:0
TRANSP:OPAQUE
END:VEVENT
END:VCALENDAR