BEGIN:VCALENDAR
VERSION:2.0
PRODID:-//jEvents 1.5 for Joomla//EN
BEGIN:VEVENT
UID:64a68e5e37f8dbe39570fdf3818fb89f
CATEGORIES:Adenstedt aktuell
SUMMARY:2. Königsschiessen Schützenverein
LOCATION:
DESCRIPTION;ENCODING=QUOTED-PRINTABLE:

DTSTAMP:20260425T174756
DTSTART:20190708T200000
DTEND:20190708T220000
SEQUENCE:0
TRANSP:OPAQUE
END:VEVENT
END:VCALENDAR