BEGIN:VCALENDAR
VERSION:2.0
PRODID:-//jEvents 1.5 for Joomla//EN
BEGIN:VEVENT
UID:f93303151e05948933bcfb780ec7cc2e
CATEGORIES:Adenstedt aktuell
SUMMARY:Königsschiessen Greiechenmädchen
LOCATION:
DESCRIPTION;ENCODING=QUOTED-PRINTABLE:

DTSTAMP:20260425T174703
DTSTART:20190710T200000
DTEND:20190710T220000
SEQUENCE:0
TRANSP:OPAQUE
END:VEVENT
END:VCALENDAR