BEGIN:VCALENDAR
VERSION:2.0
PRODID:-//jEvents 1.5 for Joomla//EN
BEGIN:VEVENT
UID:639433bce0c93d6bebff8bc1a31ee647
CATEGORIES:Adenstedt aktuell
SUMMARY:2. Königsschiessen Bürgercorps
LOCATION:
DESCRIPTION;ENCODING=QUOTED-PRINTABLE:

DTSTAMP:20260425T174628
DTSTART:20190712T190000
DTEND:20190712T220000
SEQUENCE:0
TRANSP:OPAQUE
END:VEVENT
END:VCALENDAR