BEGIN:VCALENDAR
VERSION:2.0
PRODID:-//jEvents 1.5 for Joomla//EN
BEGIN:VEVENT
UID:3bfe791d450f8ee224c22101e7009297
CATEGORIES:Adenstedt aktuell
SUMMARY:Junggesellenumzug
LOCATION:
DESCRIPTION;ENCODING=QUOTED-PRINTABLE:

DTSTAMP:20260425T174642
DTSTART:20190713T000000
DTEND:20190713T235959
SEQUENCE:0
TRANSP:OPAQUE
END:VEVENT
END:VCALENDAR