BEGIN:VCALENDAR
VERSION:2.0
PRODID:-//jEvents 1.5 for Joomla//EN
BEGIN:VEVENT
UID:f43b1a794ea5d0c9838695a1cdf85311
CATEGORIES:Adenstedt aktuell
SUMMARY:Lahwald-Begehung 2019
LOCATION:
DESCRIPTION;ENCODING=QUOTED-PRINTABLE:\n\nDie Lahwaldinteressentenschaft Adenstedt lädt wieder zur jährlichen B
 egehung ei\n

DTSTAMP:20260425T192922
DTSTART:20190630T100000
DTEND:20190630T120000
SEQUENCE:0
TRANSP:OPAQUE
END:VEVENT
END:VCALENDAR