BEGIN:VCALENDAR
VERSION:2.0
PRODID:-//jEvents 1.5 for Joomla//EN
BEGIN:VEVENT
UID:7b269750da7407457d237a21c872978a
CATEGORIES:Adenstedt aktuell
SUMMARY:Ausschießen Kinderkönig 
LOCATION:
DESCRIPTION;ENCODING=QUOTED-PRINTABLE:

DTSTAMP:20260425T192751
DTSTART:20190629T160000
DTEND:20190629T180000
SEQUENCE:0
TRANSP:OPAQUE
END:VEVENT
END:VCALENDAR