BEGIN:VCALENDAR
VERSION:2.0
PRODID:-//jEvents 1.5 for Joomla//EN
BEGIN:VEVENT
UID:c452f6ca19e02f7415f5ecb2aceecec6
CATEGORIES:Adenstedt aktuell
SUMMARY:Jubiläumsfeier: 60 Jahre SV Adenstedt
LOCATION:
DESCRIPTION;ENCODING=QUOTED-PRINTABLE:
CONTACT:http://gelbesblatt.info/gruppen/schuetzenverein/2074-jubilaeumsfeier-sv-adenstedt

DTSTAMP:20260425T160009
DTSTART:20190831T200000
DTEND:20190831T150000
SEQUENCE:0
TRANSP:OPAQUE
END:VEVENT
END:VCALENDAR