BEGIN:VCALENDAR
VERSION:2.0
PRODID:-//jEvents 1.5 for Joomla//EN
BEGIN:VEVENT
UID:57bfe013e05f4d3a4fc8af90cc0e9f0c
CATEGORIES:Adenstedt aktuell
SUMMARY:Dorfflohmarkt in Adenstedt
LOCATION:
DESCRIPTION;ENCODING=QUOTED-PRINTABLE:
CONTACT:https://www.facebook.com/photo.php?fbid=2411075748938647&set=gm.529286717842989&type=3&eid=ARCvPRB9jWSe-X1rccrcLjZdgKtqZ

DTSTAMP:20260425T141516
DTSTART:20190908T100000
DTEND:20190908T160000
SEQUENCE:0
TRANSP:OPAQUE
END:VEVENT
END:VCALENDAR