BEGIN:VCALENDAR
VERSION:2.0
PRODID:-//jEvents 1.5 for Joomla//EN
BEGIN:VEVENT
UID:f8712b9601f90361c60071eb1515b1de
CATEGORIES:MuellKalender
SUMMARY:schwarz
LOCATION:
DESCRIPTION;ENCODING=QUOTED-PRINTABLE:

DTSTAMP:20260425T154333
DTSTART:20200104T000000
DTEND:20200104T235959
SEQUENCE:0
TRANSP:OPAQUE
END:VEVENT
END:VCALENDAR