BEGIN:VCALENDAR
VERSION:2.0
PRODID:-//jEvents 1.5 for Joomla//EN
BEGIN:VEVENT
UID:4c0cc108e887a8baa7a75e5a271a1ad7
CATEGORIES:MuellKalender
SUMMARY:schwarz
LOCATION:
DESCRIPTION;ENCODING=QUOTED-PRINTABLE:

DTSTAMP:20260425T141506
DTSTART:20200214T000000
DTEND:20200214T235959
SEQUENCE:0
TRANSP:OPAQUE
END:VEVENT
END:VCALENDAR