BEGIN:VCALENDAR
VERSION:2.0
PRODID:-//jEvents 1.5 for Joomla//EN
BEGIN:VEVENT
UID:35d7e11e5774d8b3b483b639bf2101a0
CATEGORIES:MuellKalender
SUMMARY:schwarz
LOCATION:
DESCRIPTION;ENCODING=QUOTED-PRINTABLE:

DTSTAMP:20260425T122639
DTSTART:20200327T000000
DTEND:20200327T235959
SEQUENCE:0
TRANSP:OPAQUE
END:VEVENT
END:VCALENDAR