BEGIN:VCALENDAR
VERSION:2.0
PRODID:-//jEvents 1.5 for Joomla//EN
BEGIN:VEVENT
UID:aa36d0d0fca8279575c3ef0d24efab50
CATEGORIES:MuellKalender
SUMMARY:schwarz
LOCATION:
DESCRIPTION;ENCODING=QUOTED-PRINTABLE:

DTSTAMP:20260424T224712
DTSTART:20201120T000000
DTEND:20201120T235959
SEQUENCE:0
TRANSP:OPAQUE
END:VEVENT
END:VCALENDAR