BEGIN:VCALENDAR
VERSION:2.0
PRODID:-//jEvents 1.5 for Joomla//EN
BEGIN:VEVENT
UID:336ecd68678a4e3ad5a9c27aad0abd2d
CATEGORIES:MuellKalender
SUMMARY:schwarz
LOCATION:
DESCRIPTION;ENCODING=QUOTED-PRINTABLE:

DTSTAMP:20260424T205600
DTSTART:20201218T000000
DTEND:20201218T235959
SEQUENCE:0
TRANSP:OPAQUE
END:VEVENT
END:VCALENDAR