BEGIN:VCALENDAR
VERSION:2.0
PRODID:-//jEvents 1.5 for Joomla//EN
BEGIN:VEVENT
UID:25c64f8f4153f5eeaecec78918a1459c
CATEGORIES:MuellKalender
SUMMARY:grün, blau, gelb
LOCATION:
DESCRIPTION;ENCODING=QUOTED-PRINTABLE:

DTSTAMP:20260425T141439
DTSTART:20200207T000000
DTEND:20200207T235959
SEQUENCE:0
TRANSP:OPAQUE
END:VEVENT
END:VCALENDAR