BEGIN:VCALENDAR
VERSION:2.0
PRODID:-//jEvents 1.5 for Joomla//EN
BEGIN:VEVENT
UID:3e7e4b991e519fb19a83ece43910928a
CATEGORIES:MuellKalender
SUMMARY:grün, blau, gelb
LOCATION:
DESCRIPTION;ENCODING=QUOTED-PRINTABLE:

DTSTAMP:20260425T122638
DTSTART:20200306T000000
DTEND:20200306T235959
SEQUENCE:0
TRANSP:OPAQUE
END:VEVENT
END:VCALENDAR