BEGIN:VCALENDAR
VERSION:2.0
PRODID:-//jEvents 1.5 for Joomla//EN
BEGIN:VEVENT
UID:342ae793d75ebe746b9af17b634e1421
CATEGORIES:MuellKalender
SUMMARY:grün, blau, gelb
LOCATION:
DESCRIPTION;ENCODING=QUOTED-PRINTABLE:

DTSTAMP:20260425T020426
DTSTART:20200918T080000
DTEND:20200918T170000
SEQUENCE:0
TRANSP:OPAQUE
END:VEVENT
END:VCALENDAR