BEGIN:VCALENDAR
VERSION:2.0
PRODID:-//jEvents 1.5 for Joomla//EN
BEGIN:VEVENT
UID:965da8af286bb53ab0266026e0980806
CATEGORIES:MuellKalender
SUMMARY:grün, blau, gelb
LOCATION:
DESCRIPTION;ENCODING=QUOTED-PRINTABLE:

DTSTAMP:20260424T205439
DTSTART:20201211T000000
DTEND:20201211T235959
SEQUENCE:0
TRANSP:OPAQUE
END:VEVENT
END:VCALENDAR