BEGIN:VCALENDAR
VERSION:2.0
PRODID:-//jEvents 1.5 for Joomla//EN
BEGIN:VEVENT
UID:79e2d96fe7fb6a4c1c2bb89275a7f388
CATEGORIES:MuellKalender
SUMMARY:grün
LOCATION:
DESCRIPTION;ENCODING=QUOTED-PRINTABLE:

DTSTAMP:20260425T141506
DTSTART:20200221T000000
DTEND:20200221T235959
SEQUENCE:0
TRANSP:OPAQUE
END:VEVENT
END:VCALENDAR