BEGIN:VCALENDAR
VERSION:2.0
PRODID:-//jEvents 1.5 for Joomla//EN
BEGIN:VEVENT
UID:8f733a5e00d9fa74c15719008d317d8c
CATEGORIES:MuellKalender
SUMMARY:grün
LOCATION:
DESCRIPTION;ENCODING=QUOTED-PRINTABLE:

DTSTAMP:20260425T122650
DTSTART:20200320T000000
DTEND:20200320T235959
SEQUENCE:0
TRANSP:OPAQUE
END:VEVENT
END:VCALENDAR