BEGIN:VCALENDAR
VERSION:2.0
PRODID:-//jEvents 1.5 for Joomla//EN
BEGIN:VEVENT
UID:8e289448582de3e0e392d6af4d8d3d4e
CATEGORIES:MuellKalender
SUMMARY:grün
LOCATION:
DESCRIPTION;ENCODING=QUOTED-PRINTABLE:

DTSTAMP:20260425T054927
DTSTART:20200710T000000
DTEND:20200710T235959
SEQUENCE:0
TRANSP:OPAQUE
END:VEVENT
END:VCALENDAR