BEGIN:VCALENDAR
VERSION:2.0
PRODID:-//jEvents 1.5 for Joomla//EN
BEGIN:VEVENT
UID:305f4d99c864d9a4380351f474d38c2a
CATEGORIES:MuellKalender
SUMMARY:grün
LOCATION:
DESCRIPTION;ENCODING=QUOTED-PRINTABLE:

DTSTAMP:20260425T035810
DTSTART:20200807T000000
DTEND:20200807T235959
SEQUENCE:0
TRANSP:OPAQUE
END:VEVENT
END:VCALENDAR