BEGIN:VCALENDAR
VERSION:2.0
PRODID:-//jEvents 1.5 for Joomla//EN
BEGIN:VEVENT
UID:208dfe26e00ce833542c28519cf7920c
CATEGORIES:MuellKalender
SUMMARY:schwarz, grün
LOCATION:
DESCRIPTION;ENCODING=QUOTED-PRINTABLE:

DTSTAMP:20260425T054845
DTSTART:20200717T000000
DTEND:20200717T235959
SEQUENCE:0
TRANSP:OPAQUE
END:VEVENT
END:VCALENDAR