BEGIN:VCALENDAR
VERSION:2.0
PRODID:-//jEvents 1.5 for Joomla//EN
BEGIN:VEVENT
UID:01431cffa82eb31888206d425a0d5eec
CATEGORIES:MuellKalender
SUMMARY:schwarz, grün
LOCATION:
DESCRIPTION;ENCODING=QUOTED-PRINTABLE:

DTSTAMP:20260425T035810
DTSTART:20200814T000000
DTEND:20200814T235959
SEQUENCE:0
TRANSP:OPAQUE
END:VEVENT
END:VCALENDAR