BEGIN:VCALENDAR
VERSION:2.0
PRODID:-//jEvents 1.5 for Joomla//EN
BEGIN:VEVENT
UID:59b04415751ac83a6f030a7aed9a2ddb
CATEGORIES:MuellKalender
SUMMARY:schwarz, grün
LOCATION:
DESCRIPTION;ENCODING=QUOTED-PRINTABLE:

DTSTAMP:20260425T035817
DTSTART:20200828T000000
DTEND:20200828T235959
SEQUENCE:0
TRANSP:OPAQUE
END:VEVENT
END:VCALENDAR