BEGIN:VCALENDAR
VERSION:2.0
PRODID:-//jEvents 1.5 for Joomla//EN
BEGIN:VEVENT
UID:1bc66c9abd108624715c273d6166e7c9
CATEGORIES:MuellKalender
SUMMARY:schwarz, grün
LOCATION:
DESCRIPTION;ENCODING=QUOTED-PRINTABLE:

DTSTAMP:20260424T225147
DTSTART:20201106T000000
DTEND:20201106T235959
SEQUENCE:0
TRANSP:OPAQUE
END:VEVENT
END:VCALENDAR