BEGIN:VCALENDAR
VERSION:2.0
PRODID:-//jEvents 1.5 for Joomla//EN
BEGIN:VEVENT
UID:3742a0030eb52750febee75e9c2ca86f
CATEGORIES:MuellKalender
SUMMARY:gruen, gelb, blau
LOCATION:
DESCRIPTION;ENCODING=QUOTED-PRINTABLE:

DTSTAMP:20260426T052215
DTSTART:20190504T000000
DTEND:20190504T235959
SEQUENCE:0
TRANSP:OPAQUE
END:VEVENT
END:VCALENDAR