BEGIN:VCALENDAR
VERSION:2.0
PRODID:-//jEvents 1.5 for Joomla//EN
BEGIN:VEVENT
UID:03db450640ce65bd5e9874ed5872a0b6
CATEGORIES:MuellKalender
SUMMARY:schwarz, gruen
LOCATION:
DESCRIPTION;ENCODING=QUOTED-PRINTABLE:

DTSTAMP:20260426T052416
DTSTART:20190510T000000
DTEND:20190510T235959
SEQUENCE:0
TRANSP:OPAQUE
END:VEVENT
END:VCALENDAR