BEGIN:VCALENDAR
VERSION:2.0
PRODID:-//jEvents 1.5 for Joomla//EN
BEGIN:VEVENT
UID:6f4859f3ff0f8ef86f1045ed271c1bdc
CATEGORIES:MuellKalender
SUMMARY:gruen
LOCATION:
DESCRIPTION;ENCODING=QUOTED-PRINTABLE:

DTSTAMP:20260426T050947
DTSTART:20190517T000000
DTEND:20190517T235959
SEQUENCE:0
TRANSP:OPAQUE
END:VEVENT
END:VCALENDAR