BEGIN:VCALENDAR
VERSION:2.0
PRODID:-//jEvents 1.5 for Joomla//EN
BEGIN:VEVENT
UID:0c46497afedf3c3ea4fac6ac955d6e84
CATEGORIES:MuellKalender
SUMMARY:schwarz, gruen
LOCATION:
DESCRIPTION;ENCODING=QUOTED-PRINTABLE:

DTSTAMP:20260426T032635
DTSTART:20190607T000000
DTEND:20190607T235959
SEQUENCE:0
TRANSP:OPAQUE
END:VEVENT
END:VCALENDAR