BEGIN:VCALENDAR
VERSION:2.0
PRODID:-//jEvents 1.5 for Joomla//EN
BEGIN:VEVENT
UID:bbedf1cefac2d451e1c0b2ce16628757
CATEGORIES:MuellKalender
SUMMARY:gruen
LOCATION:
DESCRIPTION;ENCODING=QUOTED-PRINTABLE:

DTSTAMP:20260426T033611
DTSTART:20190615T000000
DTEND:20190615T235959
SEQUENCE:0
TRANSP:OPAQUE
END:VEVENT
END:VCALENDAR