BEGIN:VCALENDAR
VERSION:2.0
PRODID:-//jEvents 1.5 for Joomla//EN
BEGIN:VEVENT
UID:7a944b107929324ff08b0360f863a51d
CATEGORIES:MuellKalender
SUMMARY:schwarz, gruen
LOCATION:
DESCRIPTION;ENCODING=QUOTED-PRINTABLE:

DTSTAMP:20260426T032506
DTSTART:20190621T000000
DTEND:20190621T235959
SEQUENCE:0
TRANSP:OPAQUE
END:VEVENT
END:VCALENDAR