BEGIN:VCALENDAR
VERSION:2.0
PRODID:-//jEvents 1.5 for Joomla//EN
BEGIN:VEVENT
UID:bd723aceb7f766f61314a75ad51ea003
CATEGORIES:MuellKalender
SUMMARY:gruen, gelb, blau
LOCATION:
DESCRIPTION;ENCODING=QUOTED-PRINTABLE:

DTSTAMP:20260426T032633
DTSTART:20190628T000000
DTEND:20190628T235959
SEQUENCE:0
TRANSP:OPAQUE
END:VEVENT
END:VCALENDAR