BEGIN:VCALENDAR
VERSION:2.0
PRODID:-//jEvents 1.5 for Joomla//EN
BEGIN:VEVENT
UID:b3c857508e81b7071ed323011be7bc52
CATEGORIES:MuellKalender
SUMMARY:schwarz, gruen
LOCATION:
DESCRIPTION;ENCODING=QUOTED-PRINTABLE:

DTSTAMP:20260426T015441
DTSTART:20190705T000000
DTEND:20190705T235959
SEQUENCE:0
TRANSP:OPAQUE
END:VEVENT
END:VCALENDAR