BEGIN:VCALENDAR
VERSION:2.0
PRODID:-//jEvents 1.5 for Joomla//EN
BEGIN:VEVENT
UID:e92b99b7bf1d30fa62ca18b6bd89bb80
CATEGORIES:MuellKalender
SUMMARY:gruen, gelb, blau
LOCATION:
DESCRIPTION;ENCODING=QUOTED-PRINTABLE:

DTSTAMP:20260426T015441
DTSTART:20190726T000000
DTEND:20190726T235959
SEQUENCE:0
TRANSP:OPAQUE
END:VEVENT
END:VCALENDAR