BEGIN:VCALENDAR
VERSION:2.0
PRODID:-//jEvents 1.5 for Joomla//EN
BEGIN:VEVENT
UID:65eb577f8502ea55aa4c1eda8f7f5b8e
CATEGORIES:MuellKalender
SUMMARY:schwarz, gruen
LOCATION:
DESCRIPTION;ENCODING=QUOTED-PRINTABLE:

DTSTAMP:20260426T001249
DTSTART:20190830T000000
DTEND:20190830T235959
SEQUENCE:0
TRANSP:OPAQUE
END:VEVENT
END:VCALENDAR